BEGIN:VCALENDAR
VERSION:2.0
PRODID:-//BuchhaldeConnect//Group Events//DE
CALSCALE:GREGORIAN
METHOD:PUBLISH
BEGIN:VEVENT
UID:4c273519-63d2-4168-afb3-29e408674979
DTSTAMP:20260421T114659Z
SUMMARY:BürgerPC - Linux Mint Stammtisch
DESCRIPTION:BürgerPC ist die Mitmach-Gruppe in Dettingen\, die gespendete Computer aufbereitet\, mit Linux Mint und LibreOffice ausstattet und kostenfrei als Dauerleihgabe an Menschen weitergibt – für mehr digitale Teilhabe\, Unabhängigkeit und Nachhaltigkeit vor Ort.
DTSTART;TZID=Europe/Berlin:20260504T183000
DTEND;TZID=Europe/Berlin:20260504T210000
LOCATION:Bürgerforum Buchhalde
URL:https://www.dettingenconnect.de/groups/burgerpc-linux-mint-stammtisch/occurrences/621
END:VEVENT
BEGIN:VEVENT
UID:f08fcfa2-6a47-40b9-a4bb-9054d4268146
DTSTAMP:20260421T114659Z
SUMMARY:BürgerPC - Linux Mint Stammtisch
DESCRIPTION:BürgerPC ist die Mitmach-Gruppe in Dettingen\, die gespendete Computer aufbereitet\, mit Linux Mint und LibreOffice ausstattet und kostenfrei als Dauerleihgabe an Menschen weitergibt – für mehr digitale Teilhabe\, Unabhängigkeit und Nachhaltigkeit vor Ort.
DTSTART;TZID=Europe/Berlin:20260518T183000
DTEND;TZID=Europe/Berlin:20260518T210000
LOCATION:Bürgerforum Buchhalde
URL:https://www.dettingenconnect.de/groups/burgerpc-linux-mint-stammtisch/occurrences/622
END:VEVENT
BEGIN:VEVENT
UID:a796138a-ef25-406e-9d6b-77eb4485784b
DTSTAMP:20260421T114659Z
SUMMARY:BürgerPC - Linux Mint Stammtisch
DESCRIPTION:BürgerPC ist die Mitmach-Gruppe in Dettingen\, die gespendete Computer aufbereitet\, mit Linux Mint und LibreOffice ausstattet und kostenfrei als Dauerleihgabe an Menschen weitergibt – für mehr digitale Teilhabe\, Unabhängigkeit und Nachhaltigkeit vor Ort.
DTSTART;TZID=Europe/Berlin:20260601T183000
DTEND;TZID=Europe/Berlin:20260601T210000
LOCATION:Bürgerforum Buchhalde
URL:https://www.dettingenconnect.de/groups/burgerpc-linux-mint-stammtisch/occurrences/623
END:VEVENT
BEGIN:VEVENT
UID:f48ad643-ea59-4788-b8f0-75645cae3175
DTSTAMP:20260421T114659Z
SUMMARY:BürgerPC - Linux Mint Stammtisch
DESCRIPTION:BürgerPC ist die Mitmach-Gruppe in Dettingen\, die gespendete Computer aufbereitet\, mit Linux Mint und LibreOffice ausstattet und kostenfrei als Dauerleihgabe an Menschen weitergibt – für mehr digitale Teilhabe\, Unabhängigkeit und Nachhaltigkeit vor Ort.
DTSTART;TZID=Europe/Berlin:20260615T183000
DTEND;TZID=Europe/Berlin:20260615T210000
LOCATION:Bürgerforum Buchhalde
URL:https://www.dettingenconnect.de/groups/burgerpc-linux-mint-stammtisch/occurrences/624
END:VEVENT
END:VCALENDAR
